BEGIN:VCALENDAR
VERSION:2.0
PRODID:-//jEvents 2.0 for Joomla//EN
CALSCALE:GREGORIAN
METHOD:PUBLISH
BEGIN:VTIMEZONE
TZID:Europe/Paris
BEGIN:STANDARD
DTSTART:20201124T000000
RDATE:20210328T030000
TZOFFSETFROM:+0200
TZOFFSETTO:+0100
TZNAME:Europe/Paris CET
END:STANDARD
BEGIN:STANDARD
DTSTART:20211031T020000
RDATE:20220327T030000
TZOFFSETFROM:+0200
TZOFFSETTO:+0100
TZNAME:Europe/Paris CET
END:STANDARD
BEGIN:STANDARD
DTSTART:20221030T020000
RDATE:20230326T030000
TZOFFSETFROM:+0200
TZOFFSETTO:+0100
TZNAME:Europe/Paris CET
END:STANDARD
BEGIN:STANDARD
DTSTART:20231029T020000
RDATE:20240331T030000
TZOFFSETFROM:+0200
TZOFFSETTO:+0100
TZNAME:Europe/Paris CET
END:STANDARD
BEGIN:STANDARD
DTSTART:20241027T020000
RDATE:20250330T030000
TZOFFSETFROM:+0200
TZOFFSETTO:+0100
TZNAME:Europe/Paris CET
END:STANDARD
BEGIN:STANDARD
DTSTART:20251026T020000
RDATE:20260329T030000
TZOFFSETFROM:+0200
TZOFFSETTO:+0100
TZNAME:Europe/Paris CET
END:STANDARD
BEGIN:STANDARD
DTSTART:20261025T020000
RDATE:20270328T030000
TZOFFSETFROM:+0200
TZOFFSETTO:+0100
TZNAME:Europe/Paris CET
END:STANDARD
BEGIN:STANDARD
DTSTART:20271031T020000
RDATE:20280326T030000
TZOFFSETFROM:+0200
TZOFFSETTO:+0100
TZNAME:Europe/Paris CET
END:STANDARD
BEGIN:STANDARD
DTSTART:20281029T020000
RDATE:20290325T030000
TZOFFSETFROM:+0200
TZOFFSETTO:+0100
TZNAME:Europe/Paris CET
END:STANDARD
BEGIN:STANDARD
DTSTART:20291028T020000
RDATE:20300331T030000
TZOFFSETFROM:+0200
TZOFFSETTO:+0100
TZNAME:Europe/Paris CET
END:STANDARD
BEGIN:STANDARD
DTSTART:20301027T020000
RDATE:20310330T030000
TZOFFSETFROM:+0200
TZOFFSETTO:+0100
TZNAME:Europe/Paris CET
END:STANDARD
BEGIN:STANDARD
DTSTART:20311026T020000
RDATE:20320328T030000
TZOFFSETFROM:+0200
TZOFFSETTO:+0100
TZNAME:Europe/Paris CET
END:STANDARD
BEGIN:DAYLIGHT
DTSTART:20210328T030000
RDATE:20211031T020000
TZOFFSETFROM:+0100
TZOFFSETTO:+0200
TZNAME:Europe/Paris CEST
END:DAYLIGHT
BEGIN:DAYLIGHT
DTSTART:20220327T030000
RDATE:20221030T020000
TZOFFSETFROM:+0100
TZOFFSETTO:+0200
TZNAME:Europe/Paris CEST
END:DAYLIGHT
BEGIN:DAYLIGHT
DTSTART:20230326T030000
RDATE:20231029T020000
TZOFFSETFROM:+0100
TZOFFSETTO:+0200
TZNAME:Europe/Paris CEST
END:DAYLIGHT
BEGIN:DAYLIGHT
DTSTART:20240331T030000
RDATE:20241027T020000
TZOFFSETFROM:+0100
TZOFFSETTO:+0200
TZNAME:Europe/Paris CEST
END:DAYLIGHT
BEGIN:DAYLIGHT
DTSTART:20250330T030000
RDATE:20251026T020000
TZOFFSETFROM:+0100
TZOFFSETTO:+0200
TZNAME:Europe/Paris CEST
END:DAYLIGHT
BEGIN:DAYLIGHT
DTSTART:20260329T030000
RDATE:20261025T020000
TZOFFSETFROM:+0100
TZOFFSETTO:+0200
TZNAME:Europe/Paris CEST
END:DAYLIGHT
BEGIN:DAYLIGHT
DTSTART:20270328T030000
RDATE:20271031T020000
TZOFFSETFROM:+0100
TZOFFSETTO:+0200
TZNAME:Europe/Paris CEST
END:DAYLIGHT
BEGIN:DAYLIGHT
DTSTART:20280326T030000
RDATE:20281029T020000
TZOFFSETFROM:+0100
TZOFFSETTO:+0200
TZNAME:Europe/Paris CEST
END:DAYLIGHT
BEGIN:DAYLIGHT
DTSTART:20290325T030000
RDATE:20291028T020000
TZOFFSETFROM:+0100
TZOFFSETTO:+0200
TZNAME:Europe/Paris CEST
END:DAYLIGHT
BEGIN:DAYLIGHT
DTSTART:20300331T030000
RDATE:20301027T020000
TZOFFSETFROM:+0100
TZOFFSETTO:+0200
TZNAME:Europe/Paris CEST
END:DAYLIGHT
BEGIN:DAYLIGHT
DTSTART:20310330T030000
RDATE:20311026T020000
TZOFFSETFROM:+0100
TZOFFSETTO:+0200
TZNAME:Europe/Paris CEST
END:DAYLIGHT
END:VTIMEZONE
BEGIN:VEVENT
UID:3a37f9987354c7c8e1c8dd0da7dab6f1
CATEGORIES:en personne
CREATED:20211015T203323
SUMMARY:COURS DE CUISINE INTENSIVE VEGAN AUTOMNE / HIVER
LOCATION:la huberderie 53390 la rouaudière
DESCRIPTION:Avez-vous déjà participé à un cours intensif de cuisine en direct avec nous
 , ou souhaitez-vous participer à l'un de nos cours pour la première fois ?\
 nCe cours intensif de cuisine automne/hiver, dans une ambiance décontractée
 , saura satisfaire les appétits gourmands les plus féroces avec de délicieu
 ses recettes équilibrées et pleines de saveurs.\nPetit bonus : ce week-end 
 coïncide avec le week-end « Thanksgiving » aux États-Unis, qui ouvre la sai
 son des fêtes là-bas avec de délicieux desserts très spécifiques qui nous f
 eront plaisir en tant que Franco-Américains. vous faire découvrir. Nous ouv
 rirons ainsi le temps des fêtes avec des desserts vegan et healthy qui vous
  convaincront que santé et plaisir peuvent se conjuguer et qui raviront vos
  convives !\nCe que vous apprendrez :\nPréparation de soupes et salades d'h
 iver pour nourrir les poumons et le système immunitaire (vous ferez votre c
 houcroute : apportez une conserve à emporter)… fricassées, daubes en tajine
 s ou cocottes en fonte, farces et terrines et… desserts à célébrez dignemen
 t les fêtes de fin d'année !\nAU PROGRAMME\nAvec Didier, chef et chef d'orc
 hestre du week-end :\n\n - La main à la Pâte : ateliers de cuisine particip
 ative\n - Cours pratiques : démonstrations d'ateliers, techniques et astuce
 s pour cuisiner sans stress\n - Pratiquer la mastication pour booster nos e
 nzymes et nos anticorps naturelsAvec Liliane et la médecine chinoise\n\n - 
 Cours théoriques : besoins nutritionnels de la saison d'automne, et approch
 e d'un éco\n - La médecine contemporaine pour renforcer votre système immun
 itaire\n - Qi gong et méditation sur le thème de l'automne et des poumonsPo
 ur plus d'informations ou pour vous inscrire : Cette adresse e-mail est pro
 tégée contre les robots spammeurs. Vous devez activer le JavaScript pour la
  visualiser.\n
X-ALT-DESC;FMTTYPE=text/html:<p>Avez-vous déjà participé à un cours intensif de cuisine en direct avec n
 ous, ou souhaitez-vous participer à l'un de nos cours pour la première fois
  ?</p><p>Ce cours intensif de cuisine automne/hiver, dans une ambiance déco
 ntractée, saura satisfaire les appétits gourmands les plus féroces avec de 
 délicieuses recettes équilibrées et pleines de saveurs.</p><p>Petit bonus :
  ce week-end coïncide avec le week-end « Thanksgiving » aux États-Unis, qui
  ouvre la saison des fêtes là-bas avec de délicieux desserts très spécifiqu
 es qui nous feront plaisir en tant que Franco-Américains. vous faire découv
 rir. Nous ouvrirons ainsi le temps des fêtes avec des desserts vegan et hea
 lthy qui vous convaincront que santé et plaisir peuvent se conjuguer et qui
  raviront vos convives !</p><p>Ce que vous apprendrez :</p><p>Préparation d
 e soupes et salades d'hiver pour nourrir les poumons et le système immunita
 ire (vous ferez votre choucroute : apportez une conserve à emporter)… frica
 ssées, daubes en tajines ou cocottes en fonte, farces et terrines et… desse
 rts à célébrez dignement les fêtes de fin d'année !</p><p>AU PROGRAMME</p><
 p>Avec Didier, chef et chef d'orchestre du week-end :</p><ul><li>La main à 
 la Pâte : ateliers de cuisine participative</li><li>Cours pratiques : démon
 strations d'ateliers, techniques et astuces pour cuisiner sans stress</li><
 li>Pratiquer la mastication pour booster nos enzymes et nos anticorps natur
 els</li></ul><p>Avec Liliane et la médecine chinoise</p><ul><li>Cours théor
 iques : besoins nutritionnels de la saison d'automne, et approche d'un éco<
 /li><li>La médecine contemporaine pour renforcer votre système immunitaire<
 /li><li>Qi gong et méditation sur le thème de l'automne et des poumons</li>
 </ul><p>Pour plus d'informations ou pour vous inscrire : <joomla-hidden-mai
 l  is-link="1" is-email="1" first="ZGlkaWVyY3V6YW5nZQ==" last="Z21haWwuY29t
 " text="ZGlkaWVyY3V6YW5nZUBnbWFpbC5jb20=" base="" >Cette adresse e-mail est
  protégée contre les robots spammeurs. Vous devez activer le JavaScript pou
 r la visualiser.</joomla-hidden-mail></p>
CONTACT:Cette adresse e-mail est protégée contre les robots spammeurs. Vous devez activer le JavaScript pour la visualiser. | 07 82 45 03 45
DTSTAMP:20260424T180838
DTSTART;TZID=Europe/Paris;VALUE=DATE:20211125
DTEND;TZID=Europe/Paris;VALUE=DATE:20211129
SEQUENCE:0
TRANSP:OPAQUE
END:VEVENT
END:VCALENDAR